BEGIN:VCALENDAR
VERSION:2.0
PRODID:-//Costa Badminton - ECPv6.15.20//NONSGML v1.0//EN
CALSCALE:GREGORIAN
METHOD:PUBLISH
X-ORIGINAL-URL:https://costabadminton.com
X-WR-CALDESC:Events for Costa Badminton
REFRESH-INTERVAL;VALUE=DURATION:PT1H
X-Robots-Tag:noindex
X-PUBLISHED-TTL:PT1H
BEGIN:VTIMEZONE
TZID:UTC
BEGIN:STANDARD
TZOFFSETFROM:+0000
TZOFFSETTO:+0000
TZNAME:UTC
DTSTART:20240101T000000
END:STANDARD
END:VTIMEZONE
BEGIN:VEVENT
DTSTART;VALUE=DATE:20250501
DTEND;VALUE=DATE:20250601
DTSTAMP:20260421T105755
CREATED:20250312T044143Z
LAST-MODIFIED:20250312T044212Z
UID:3692-1746057600-1748735999@costabadminton.com
SUMMARY:BADMINTON SUMMER CAMP 2025!
DESCRIPTION:📢 Enroll Now & Make Your Child a Pro! \nGive your child the perfect summer experience with Costa Badminton Center’s Summer Camp! This is the ultimate opportunity for students to learn\, train\, and excel under expert coaching. Whether your child is a beginner or an aspiring champion\, this camp will help them master the game\, improve their skills\, and build confidence. \n🔥 Why Join?\n✅ Professional Coaching & Skill Development\n✅ Fun & Engaging Sessions\n✅ Improve Fitness\, Focus & Reflexes\n✅ Best Training Facility
URL:https://costabadminton.com/event/badminton-summer-camp-2025-2/
LOCATION:Costa Badminton Center\, Vinayaka Kodi Road\, Aral Gudde Cross\, Halealve Village\, Kundapura\, karnataka\, 576217\, India
CATEGORIES:Costa Badminton Center
ATTACH;FMTTYPE=image/jpeg:https://costabadminton.com/wp-content/uploads/2025/03/WhatsApp-Image-2025-03-11-at-12.06.34-PM.jpeg
END:VEVENT
BEGIN:VEVENT
DTSTART;VALUE=DATE:20250426
DTEND;VALUE=DATE:20250428
DTSTAMP:20260421T105755
CREATED:20250311T044103Z
LAST-MODIFIED:20250312T043338Z
UID:3679-1745625600-1745798399@costabadminton.com
SUMMARY:Lt. Alfred Gregory D'Souza Memorial Badminton Tournament - 2025
DESCRIPTION:
URL:https://costabadminton.com/event/lt-alfred-gregory-dsouza-memorial-badminton-tournament-2025/
LOCATION:Costa Badminton Center\, Vinayaka Kodi Road\, Aral Gudde Cross\, Halealve Village\, Kundapura\, karnataka\, 576217\, India
CATEGORIES:Costa Badminton Center
ATTACH;FMTTYPE=image/jpeg:https://costabadminton.com/wp-content/uploads/2025/03/event1.jpg
END:VEVENT
BEGIN:VEVENT
DTSTART;VALUE=DATE:20250331
DTEND;VALUE=DATE:20250501
DTSTAMP:20260421T105755
CREATED:20250311T152050Z
LAST-MODIFIED:20250312T043707Z
UID:3687-1743379200-1746057599@costabadminton.com
SUMMARY:BADMINTON SUMMER CAMP 2025!
DESCRIPTION:📢 Enroll Now & Make Your Child a Pro! \nGive your child the perfect summer experience with Costa Badminton Center’s Summer Camp! This is the ultimate opportunity for students to learn\, train\, and excel under expert coaching. Whether your child is a beginner or an aspiring champion\, this camp will help them master the game\, improve their skills\, and build confidence. \n🔥 Why Join?\n✅ Professional Coaching & Skill Development\n✅ Fun & Engaging Sessions\n✅ Improve Fitness\, Focus & Reflexes\n✅ Best Training Facility
URL:https://costabadminton.com/event/badminton-summer-camp-2025/
LOCATION:Costa Badminton Center\, Vinayaka Kodi Road\, Aral Gudde Cross\, Halealve Village\, Kundapura\, karnataka\, 576217\, India
CATEGORIES:Costa Badminton Center
ATTACH;FMTTYPE=image/jpeg:https://costabadminton.com/wp-content/uploads/2025/03/WhatsApp-Image-2025-03-11-at-12.06.34-PM.jpeg
END:VEVENT
END:VCALENDAR